BEGIN:VCALENDAR
VERSION:2.0
PRODID:nabertherm.com
X-WR-TIMEZONE:Europe/Berlin
BEGIN:VTIMEZONE
TZID:Europe/Berlin
X-LIC-LOCATION:Europe/Berlin
BEGIN:DAYLIGHT
TZNAME:CEST
TZOFFSETFROM:+0100
TZOFFSETTO:+0200
DTSTART:20270328T010000
END:DAYLIGHT
BEGIN:DAYLIGHT
TZNAME:CEST
TZOFFSETFROM:+0100
TZOFFSETTO:+0200
DTSTART:20280326T010000
END:DAYLIGHT
BEGIN:STANDARD
TZNAME:CET
TZOFFSETFROM:+0200
TZOFFSETTO:+0100
DTSTART:20271031T010000
END:STANDARD
BEGIN:STANDARD
TZNAME:CET
TZOFFSETFROM:+0200
TZOFFSETTO:+0100
DTSTART:20281029T010000
END:STANDARD
END:VTIMEZONE
BEGIN:VEVENT
UID:f45eeecad4e7327fc2df262aa85e6ef1
DTSTART;TZID=Europe/Berlin:20280118T010000
SEQUENCE:0
TRANSP:OPAQUE
DTEND;TZID=Europe/Berlin:20280120T010000
SUMMARY:Euroguss 2026
CLASS:PUBLIC
DESCRIPTION:Nürnberg\, Germany\n\nHall 7 Booth 167 - Giesserei
DTSTAMP:20260424T090926Z
END:VEVENT
END:VCALENDAR