BEGIN:VCALENDAR
VERSION:2.0
PRODID:nabertherm.com
X-WR-TIMEZONE:Europe/Berlin
BEGIN:VTIMEZONE
TZID:Europe/Berlin
X-LIC-LOCATION:Europe/Berlin
BEGIN:DAYLIGHT
TZNAME:CEST
TZOFFSETFROM:+0100
TZOFFSETTO:+0200
DTSTART:20260329T010000
END:DAYLIGHT
BEGIN:DAYLIGHT
TZNAME:CEST
TZOFFSETFROM:+0100
TZOFFSETTO:+0200
DTSTART:20270328T010000
END:DAYLIGHT
BEGIN:STANDARD
TZNAME:CET
TZOFFSETFROM:+0200
TZOFFSETTO:+0100
DTSTART:20251026T010000
END:STANDARD
BEGIN:STANDARD
TZNAME:CET
TZOFFSETFROM:+0200
TZOFFSETTO:+0100
DTSTART:20261025T010000
END:STANDARD
END:VTIMEZONE
BEGIN:VEVENT
UID:fe8b7e576c8994ea49e923ab2ee6e54d
DTSTART;TZID=Europe/Berlin:20260915T020000
SEQUENCE:0
TRANSP:OPAQUE
DTEND;TZID=Europe/Berlin:20260919T020000
SUMMARY:AMB
CLASS:PUBLIC
DESCRIPTION:Stuttgart\, Germany\n\nHall 5 | 5D26 - Thermprozesstechnik
DTSTAMP:20260424T091120Z
END:VEVENT
END:VCALENDAR